BEGIN:VCALENDAR
VERSION:2.0
PRODID:concerti//https://www.concerti.de
CALSCALE:GREGORIAN
BEGIN:VTIMEZONE
TZID:Europe/Berlin
X-LIC-LOCATION:Europe/Berlin
BEGIN:DAYLIGHT
TZOFFSETFROM:+0100
TZOFFSETTO:+0200
TZNAME:CEST
DTSTART:19700329T020000
RRULE:FREQ=YEARLY;BYMONTH=3;BYDAY=-1SU
END:DAYLIGHT
BEGIN:STANDARD
TZOFFSETFROM:+0200
TZOFFSETTO:+0100
TZNAME:CET
DTSTART:19701025T030000
RRULE:FREQ=YEARLY;BYMONTH=10;BYDAY=-1SU
END:STANDARD
END:VTIMEZONE
BEGIN:VEVENT
UID:2dc1cf26f23fd0796fe3b5cf4bda5135
SUMMARY:Track3 - Voraushören
URL:https://www.concerti.de/termine/track3-holzhausenschloesschen-837785/
DTSTART;TZID=Europe/Berlin:20260423T193000
DTEND;TZID=Europe/Berlin:20260423T213000
DESCRIPTION:Interpreten: Track3 \nProgramm: Kurtág: Hommage à R. Sch. op. 15d\, Lee: Stuff#2\, Bray: Blaze and Fall\, Völbel: Neues Werk\, Stroppa: Hommage à Gy. K. \nhttps://www.concerti.de/termine/track3-holzhausenschloesschen-837785/
LOCATION:Holzhausenschlösschen\, Justinianstraße 5\, 60322 Frankfurt (Main)
END:VEVENT
END:VCALENDAR