BEGIN:VCALENDAR
VERSION:2.0
PRODID:concerti//https://www.concerti.de
CALSCALE:GREGORIAN
BEGIN:VTIMEZONE
TZID:Europe/Berlin
X-LIC-LOCATION:Europe/Berlin
BEGIN:DAYLIGHT
TZOFFSETFROM:+0100
TZOFFSETTO:+0200
TZNAME:CEST
DTSTART:19700329T020000
RRULE:FREQ=YEARLY;BYMONTH=3;BYDAY=-1SU
END:DAYLIGHT
BEGIN:STANDARD
TZOFFSETFROM:+0200
TZOFFSETTO:+0100
TZNAME:CET
DTSTART:19701025T030000
RRULE:FREQ=YEARLY;BYMONTH=10;BYDAY=-1SU
END:STANDARD
END:VTIMEZONE
BEGIN:VEVENT
UID:77fd226f5ab388811c0b4e096067f01a
SUMMARY:Puccini: Tosca - Oper im Steinbruch St. Margarethen
URL:https://www.concerti.de/termine/puccini-tosca-836276/
DTSTART;TZID=Europe/Berlin:20260819T200000
DTEND;TZID=Europe/Berlin:20260819T220000
DESCRIPTION:Interpreten: Joyce El-Khoury/Celine Byrne/Melissa Purnell (Tosca)\, Bror Magnus Tødenes/Yongzhao Yu/Adorján Pataki (Cavaradossi)\, Ariunbaatar Ganbaatar/Hansung Yoo/Marco Caria (Scarpia)\, Volodymyr Morozov/Zoltán Nagy (Angelotti & Schliesser)\, Ivan Zinoviev/Ilia Kazakov (Sagrestano & Sciarrone)\, Michał Prószyński/Peter Kirk (Spoletta)\, Philharmonia Chor Wien\, Gumpoldskirchner Spatzen\, Piedra Festivalorchester\, Valerio Galli (Leitung)\, Thaddeus Strassberger (Regie) \nhttps://www.concerti.de/termine/puccini-tosca-836276/
LOCATION:Steinbruch\, St. Margarethen
END:VEVENT
END:VCALENDAR