BEGIN:VCALENDAR
VERSION:2.0
PRODID:concerti//https://www.concerti.de
CALSCALE:GREGORIAN
BEGIN:VTIMEZONE
TZID:Europe/Berlin
X-LIC-LOCATION:Europe/Berlin
BEGIN:DAYLIGHT
TZOFFSETFROM:+0100
TZOFFSETTO:+0200
TZNAME:CEST
DTSTART:19700329T020000
RRULE:FREQ=YEARLY;BYMONTH=3;BYDAY=-1SU
END:DAYLIGHT
BEGIN:STANDARD
TZOFFSETFROM:+0200
TZOFFSETTO:+0100
TZNAME:CET
DTSTART:19701025T030000
RRULE:FREQ=YEARLY;BYMONTH=10;BYDAY=-1SU
END:STANDARD
END:VTIMEZONE
BEGIN:VEVENT
UID:506023eef3f5b69fc763435fe6716789
SUMMARY:Pinoccio - Murten Classics: Familienkonzert
URL:https://www.concerti.de/termine/pinoccio-835584/
DTSTART;TZID=Europe/Berlin:20260829T150000
DTEND;TZID=Europe/Berlin:20260829T170000
DESCRIPTION:Interpreten: Concerto Scirocco\, Yolanda Steiner (Rezitation) \nhttps://www.concerti.de/termine/pinoccio-835584/
LOCATION:Nähe Schiffsstation Murten\, Murten
END:VEVENT
END:VCALENDAR