BEGIN:VCALENDAR
VERSION:2.0
PRODID:concerti//https://www.concerti.de
CALSCALE:GREGORIAN
BEGIN:VTIMEZONE
TZID:Europe/Berlin
X-LIC-LOCATION:Europe/Berlin
BEGIN:DAYLIGHT
TZOFFSETFROM:+0100
TZOFFSETTO:+0200
TZNAME:CEST
DTSTART:19700329T020000
RRULE:FREQ=YEARLY;BYMONTH=3;BYDAY=-1SU
END:DAYLIGHT
BEGIN:STANDARD
TZOFFSETFROM:+0200
TZOFFSETTO:+0100
TZNAME:CET
DTSTART:19701025T030000
RRULE:FREQ=YEARLY;BYMONTH=10;BYDAY=-1SU
END:STANDARD
END:VTIMEZONE
BEGIN:VEVENT
UID:7efed4328c9e96fa7cc3e6228a9fc4a3
SUMMARY:Et Lux Perpetua - Murten Classics
URL:https://www.concerti.de/termine/et-lux-perpetua-835580/
DTSTART;TZID=Europe/Berlin:20260828T170000
DTEND;TZID=Europe/Berlin:20260828T190000
DESCRIPTION:Interpreten: Sophie Marilley (Sopran)\, Charles Sudan (Alt)\, Jonathan Spicher (Tenor)\, Simon Ruffieux (Bass)\, Capriccio Barockorchester\, Philippe Savoy (Leitung) \nProgramm: Werke von Beach\, Yngwe\, Dudamel\, Ticheli\, Pasquier\, Hensel\, Mermoud\, Charrière & Mozart \nhttps://www.concerti.de/termine/et-lux-perpetua-835580/
LOCATION:Deutsche Kirche Mjurten\, Murten
END:VEVENT
END:VCALENDAR