BEGIN:VCALENDAR
VERSION:2.0
PRODID:concerti//https://www.concerti.de
CALSCALE:GREGORIAN
BEGIN:VTIMEZONE
TZID:Europe/Berlin
X-LIC-LOCATION:Europe/Berlin
BEGIN:DAYLIGHT
TZOFFSETFROM:+0100
TZOFFSETTO:+0200
TZNAME:CEST
DTSTART:19700329T020000
RRULE:FREQ=YEARLY;BYMONTH=3;BYDAY=-1SU
END:DAYLIGHT
BEGIN:STANDARD
TZOFFSETFROM:+0200
TZOFFSETTO:+0100
TZNAME:CET
DTSTART:19701025T030000
RRULE:FREQ=YEARLY;BYMONTH=10;BYDAY=-1SU
END:STANDARD
END:VTIMEZONE
BEGIN:VEVENT
UID:147635c5913744173f96b0849752ef23
SUMMARY:Sami Kuçi (Klarinette), Musique de Landwehr, Benedikt Hayoz (Leitung) - Murten Classics
URL:https://www.concerti.de/termine/sami-kuci-klarinette-musique-de-landwehr-benedikt-hayoz-leitung-835576/
DTSTART;TZID=Europe/Berlin:20260827T200000
DTEND;TZID=Europe/Berlin:20260827T220000
DESCRIPTION:Interpreten: Sami Kuçi (Klarinette)\, Musique de Landwehr\, Benedikt Hayoz (Leitung) \nProgramm: Werke von Walton\, Maslanka\, Copland Shaw & Williams \nhttps://www.concerti.de/termine/sami-kuci-klarinette-musique-de-landwehr-benedikt-hayoz-leitung-835576/
LOCATION:Schloss Murten\, Schlosshof\, Murten
END:VEVENT
END:VCALENDAR