BEGIN:VCALENDAR
VERSION:2.0
PRODID:concerti//https://www.concerti.de
CALSCALE:GREGORIAN
BEGIN:VTIMEZONE
TZID:Europe/Berlin
X-LIC-LOCATION:Europe/Berlin
BEGIN:DAYLIGHT
TZOFFSETFROM:+0100
TZOFFSETTO:+0200
TZNAME:CEST
DTSTART:19700329T020000
RRULE:FREQ=YEARLY;BYMONTH=3;BYDAY=-1SU
END:DAYLIGHT
BEGIN:STANDARD
TZOFFSETFROM:+0200
TZOFFSETTO:+0100
TZNAME:CET
DTSTART:19701025T030000
RRULE:FREQ=YEARLY;BYMONTH=10;BYDAY=-1SU
END:STANDARD
END:VTIMEZONE
BEGIN:VEVENT
UID:4942d4cd5d453bd1cb55575eaabff365
SUMMARY:Orchestre de chambre fribourgeois, Jorge Yagüe (Leitung) - Murten Classics
URL:https://www.concerti.de/termine/orchestre-de-chambre-fribourgeois-jorge-yaguee-leitung-835568/
DTSTART;TZID=Europe/Berlin:20260825T200000
DTEND;TZID=Europe/Berlin:20260825T220000
DESCRIPTION:Interpreten: Orchestre de chambre fribourgeois\, Jorge Yagüe (Leitung) \nProgramm: Werke von Dvořák\, Tschaikowsky & Wieniawski \nhttps://www.concerti.de/termine/orchestre-de-chambre-fribourgeois-jorge-yaguee-leitung-835568/
LOCATION:Schloss Murten\, Schlosshof\, Murten
END:VEVENT
END:VCALENDAR