BEGIN:VCALENDAR
VERSION:2.0
PRODID:concerti//https://www.concerti.de
CALSCALE:GREGORIAN
BEGIN:VTIMEZONE
TZID:Europe/Berlin
X-LIC-LOCATION:Europe/Berlin
BEGIN:DAYLIGHT
TZOFFSETFROM:+0100
TZOFFSETTO:+0200
TZNAME:CEST
DTSTART:19700329T020000
RRULE:FREQ=YEARLY;BYMONTH=3;BYDAY=-1SU
END:DAYLIGHT
BEGIN:STANDARD
TZOFFSETFROM:+0200
TZOFFSETTO:+0100
TZNAME:CET
DTSTART:19701025T030000
RRULE:FREQ=YEARLY;BYMONTH=10;BYDAY=-1SU
END:STANDARD
END:VTIMEZONE
BEGIN:VEVENT
UID:b8e10523d613a8ca437b90fed5b05206
SUMMARY:Concerto Romano, Alessandro Quarta (Cembalo &amp; Leitung) - Festival Muri Barock
URL:https://www.concerti.de/termine/concerto-romano-alessandro-quarta-cembalo-leitung-834435/
DTSTART;TZID=Europe/Berlin:20260822T160000
DTEND;TZID=Europe/Berlin:20260822T180000
DESCRIPTION:Interpreten: Concerto Romano\, Alessandro Quarta (Cembalo & Leitung) \nProgramm: Werke con Carissimi u. a. \nhttps://www.concerti.de/termine/concerto-romano-alessandro-quarta-cembalo-leitung-834435/
LOCATION:Kloster Muri\, Muri
END:VEVENT
END:VCALENDAR