BEGIN:VCALENDAR
VERSION:2.0
PRODID:concerti//https://www.concerti.de
CALSCALE:GREGORIAN
BEGIN:VTIMEZONE
TZID:Europe/Berlin
X-LIC-LOCATION:Europe/Berlin
BEGIN:DAYLIGHT
TZOFFSETFROM:+0100
TZOFFSETTO:+0200
TZNAME:CEST
DTSTART:19700329T020000
RRULE:FREQ=YEARLY;BYMONTH=3;BYDAY=-1SU
END:DAYLIGHT
BEGIN:STANDARD
TZOFFSETFROM:+0200
TZOFFSETTO:+0100
TZNAME:CET
DTSTART:19701025T030000
RRULE:FREQ=YEARLY;BYMONTH=10;BYDAY=-1SU
END:STANDARD
END:VTIMEZONE
BEGIN:VEVENT
UID:307904fe76d594ae121f84edc6c25911
SUMMARY:Eröffnungskonzert - Festival Muri Barock
URL:https://www.concerti.de/termine/eroeffnungskonzert-834426/
DTSTART;TZID=Europe/Berlin:20260821T193000
DTEND;TZID=Europe/Berlin:20260821T213000
DESCRIPTION:Interpreten: AUXantiqua\, I Fedeli\, Stefan Steinemann (Altus & Leitung)\, Catherine Motuz (Posaune & Leitung) \nProgramm: Werke von Erbach u. a. \nhttps://www.concerti.de/termine/eroeffnungskonzert-834426/
LOCATION:Kloster Muri\, Muri
END:VEVENT
END:VCALENDAR