BEGIN:VCALENDAR
VERSION:2.0
PRODID:concerti//https://www.concerti.de
CALSCALE:GREGORIAN
BEGIN:VTIMEZONE
TZID:Europe/Berlin
X-LIC-LOCATION:Europe/Berlin
BEGIN:DAYLIGHT
TZOFFSETFROM:+0100
TZOFFSETTO:+0200
TZNAME:CEST
DTSTART:19700329T020000
RRULE:FREQ=YEARLY;BYMONTH=3;BYDAY=-1SU
END:DAYLIGHT
BEGIN:STANDARD
TZOFFSETFROM:+0200
TZOFFSETTO:+0100
TZNAME:CET
DTSTART:19701025T030000
RRULE:FREQ=YEARLY;BYMONTH=10;BYDAY=-1SU
END:STANDARD
END:VTIMEZONE
BEGIN:VEVENT
UID:59cb802977753601a81283c6d92b0585
SUMMARY:María Dueñas (Violine), European Union Youth Orchestra, Elim Chan (Leitung) - Ludwigsburger Schlossfestspiele
URL:https://www.concerti.de/termine/maria-duenas-violine-european-union-youth-orchestra-elim-chan-leitung-forum-am-schlosspark-833944/
DTSTART;TZID=Europe/Berlin:20260805T200000
DTEND;TZID=Europe/Berlin:20260805T220000
DESCRIPTION:Interpreten: María Dueñas (Violine)\, European Union Youth Orchestra\, Elim Chan (Leitung) \nProgramm: Brahms: Violinkonzert D-Dur op. 77\, Rachmaninow: Sinfonie Nr. 2 e-Moll op. 27 \nhttps://www.concerti.de/termine/maria-duenas-violine-european-union-youth-orchestra-elim-chan-leitung-forum-am-schlosspark-833944/
LOCATION:Forum am Schlosspark\, Stuttgarter Straße 33\, 71638 Ludwigsburg
END:VEVENT
END:VCALENDAR