BEGIN:VCALENDAR
VERSION:2.0
PRODID:concerti//https://www.concerti.de
CALSCALE:GREGORIAN
BEGIN:VTIMEZONE
TZID:Europe/Berlin
X-LIC-LOCATION:Europe/Berlin
BEGIN:DAYLIGHT
TZOFFSETFROM:+0100
TZOFFSETTO:+0200
TZNAME:CEST
DTSTART:19700329T020000
RRULE:FREQ=YEARLY;BYMONTH=3;BYDAY=-1SU
END:DAYLIGHT
BEGIN:STANDARD
TZOFFSETFROM:+0200
TZOFFSETTO:+0100
TZNAME:CET
DTSTART:19701025T030000
RRULE:FREQ=YEARLY;BYMONTH=10;BYDAY=-1SU
END:STANDARD
END:VTIMEZONE
BEGIN:VEVENT
UID:5cfdd9ff58de26a5eaa4c4939862cfa8
SUMMARY:Elad Navon (Klarinette), Itai Navon (Klavier) - Ludwigsburger Schlossfestspiele
URL:https://www.concerti.de/termine/elad-navon-klarinette-itai-navon-klavier-833920/
DTSTART;TZID=Europe/Berlin:20260728T200000
DTEND;TZID=Europe/Berlin:20260728T220000
DESCRIPTION:Interpreten: Elad Navon (Klarinette)\, Itai Navon (Klavier) \nProgramm: Weber: Grand Duo Concertant Es-Dur op. 48\, Hindemith: Klarinettensonate B-Dur\, Poulenc: Klarinettensonate\, Brahms: Klarinettensonate Es-Dur op. 120/2 \nhttps://www.concerti.de/termine/elad-navon-klarinette-itai-navon-klavier-833920/
LOCATION:Seeschloss Monrepos\, Ludwigsburg
END:VEVENT
END:VCALENDAR