BEGIN:VCALENDAR
VERSION:2.0
PRODID:concerti//https://www.concerti.de
CALSCALE:GREGORIAN
BEGIN:VTIMEZONE
TZID:Europe/Berlin
X-LIC-LOCATION:Europe/Berlin
BEGIN:DAYLIGHT
TZOFFSETFROM:+0100
TZOFFSETTO:+0200
TZNAME:CEST
DTSTART:19700329T020000
RRULE:FREQ=YEARLY;BYMONTH=3;BYDAY=-1SU
END:DAYLIGHT
BEGIN:STANDARD
TZOFFSETFROM:+0200
TZOFFSETTO:+0100
TZNAME:CET
DTSTART:19701025T030000
RRULE:FREQ=YEARLY;BYMONTH=10;BYDAY=-1SU
END:STANDARD
END:VTIMEZONE
BEGIN:VEVENT
UID:2f2269b8c0c6a66a3d7ff2cfb57783c4
SUMMARY:Ma Bayadère - Ludwigsburger Schlossfestspiele
URL:https://www.concerti.de/termine/ma-bayadere-forum-am-schlosspark-833905/
DTSTART;TZID=Europe/Berlin:20260725T190000
DTEND;TZID=Europe/Berlin:20260725T210000
DESCRIPTION:Interpreten: Les Ballets de Monte-Carlo\, Jean-Christophe Maillot (Choreografie) \nProgramm: Musik von Minkus \nhttps://www.concerti.de/termine/ma-bayadere-forum-am-schlosspark-833905/
LOCATION:Forum am Schlosspark\, Stuttgarter Straße 33\, 71638 Ludwigsburg
END:VEVENT
END:VCALENDAR