BEGIN:VCALENDAR
VERSION:2.0
PRODID:concerti//https://www.concerti.de
CALSCALE:GREGORIAN
BEGIN:VTIMEZONE
TZID:Europe/Berlin
X-LIC-LOCATION:Europe/Berlin
BEGIN:DAYLIGHT
TZOFFSETFROM:+0100
TZOFFSETTO:+0200
TZNAME:CEST
DTSTART:19700329T020000
RRULE:FREQ=YEARLY;BYMONTH=3;BYDAY=-1SU
END:DAYLIGHT
BEGIN:STANDARD
TZOFFSETFROM:+0200
TZOFFSETTO:+0100
TZNAME:CET
DTSTART:19701025T030000
RRULE:FREQ=YEARLY;BYMONTH=10;BYDAY=-1SU
END:STANDARD
END:VTIMEZONE
BEGIN:VEVENT
UID:c612876154f3551e9bf25f5c630560f1
SUMMARY:Park-Musik - Ludwigsburger Schlossfestspiele
URL:https://www.concerti.de/termine/park-musik-833901/
DTSTART;TZID=Europe/Berlin:20260723T190000
DTEND;TZID=Europe/Berlin:20260723T210000
DESCRIPTION:Interpreten: Robin Paillet (Trompete)\, Rémi Briffault (Akkordeon) \nhttps://www.concerti.de/termine/park-musik-833901/
LOCATION:Seeschloss Monrepos\, Ludwigsburg
END:VEVENT
END:VCALENDAR