BEGIN:VCALENDAR
VERSION:2.0
PRODID:concerti//https://www.concerti.de
CALSCALE:GREGORIAN
BEGIN:VTIMEZONE
TZID:Europe/Berlin
X-LIC-LOCATION:Europe/Berlin
BEGIN:DAYLIGHT
TZOFFSETFROM:+0100
TZOFFSETTO:+0200
TZNAME:CEST
DTSTART:19700329T020000
RRULE:FREQ=YEARLY;BYMONTH=3;BYDAY=-1SU
END:DAYLIGHT
BEGIN:STANDARD
TZOFFSETFROM:+0200
TZOFFSETTO:+0100
TZNAME:CET
DTSTART:19701025T030000
RRULE:FREQ=YEARLY;BYMONTH=10;BYDAY=-1SU
END:STANDARD
END:VTIMEZONE
BEGIN:VEVENT
UID:205124893c5c9490a988ff29cc2a12ba
SUMMARY:Variazioni Verticali - Ludwigsburger Schlossfestspiele
URL:https://www.concerti.de/termine/variazioni-verticali-833349/
DTSTART;TZID=Europe/Berlin:20260704T200000
DTEND;TZID=Europe/Berlin:20260704T220000
DESCRIPTION:Interpreten: Il Posto & Marco Castelli Small Ensemble\, Wanda Moretti (Choreografie) \nProgramm: Musik von Castelli \nhttps://www.concerti.de/termine/variazioni-verticali-833349/
LOCATION:Marktplatz\, Ludwigsburg
END:VEVENT
END:VCALENDAR