BEGIN:VCALENDAR
VERSION:2.0
PRODID:concerti//https://www.concerti.de
CALSCALE:GREGORIAN
BEGIN:VTIMEZONE
TZID:Europe/Berlin
X-LIC-LOCATION:Europe/Berlin
BEGIN:DAYLIGHT
TZOFFSETFROM:+0100
TZOFFSETTO:+0200
TZNAME:CEST
DTSTART:19700329T020000
RRULE:FREQ=YEARLY;BYMONTH=3;BYDAY=-1SU
END:DAYLIGHT
BEGIN:STANDARD
TZOFFSETFROM:+0200
TZOFFSETTO:+0100
TZNAME:CET
DTSTART:19701025T030000
RRULE:FREQ=YEARLY;BYMONTH=10;BYDAY=-1SU
END:STANDARD
END:VTIMEZONE
BEGIN:VEVENT
UID:04b6a34e83366d2e6a678051656039dd
SUMMARY:Festspiel-Nacht I - Ludwigsburger Schlossfestspiele
URL:https://www.concerti.de/termine/festspiel-nacht-i-833332/
DTSTART;TZID=Europe/Berlin:20260702T200000
DTEND;TZID=Europe/Berlin:20260702T220000
DESCRIPTION:Interpreten: Youn Sun Nah (vocals)\, Il Posto & Marco Castelli Small Ensemble\, Simona Forlani (Tanz) Isabel Rossi (Tanz)\, Wanda Moretti (Choreografie) \nhttps://www.concerti.de/termine/festspiel-nacht-i-833332/
LOCATION:Kunstzentrum Karlskaserne\, Ludwigsburg
END:VEVENT
END:VCALENDAR