BEGIN:VCALENDAR
VERSION:2.0
PRODID:concerti//https://www.concerti.de
CALSCALE:GREGORIAN
BEGIN:VTIMEZONE
TZID:Europe/Berlin
X-LIC-LOCATION:Europe/Berlin
BEGIN:DAYLIGHT
TZOFFSETFROM:+0100
TZOFFSETTO:+0200
TZNAME:CEST
DTSTART:19700329T020000
RRULE:FREQ=YEARLY;BYMONTH=3;BYDAY=-1SU
END:DAYLIGHT
BEGIN:STANDARD
TZOFFSETFROM:+0200
TZOFFSETTO:+0100
TZNAME:CET
DTSTART:19701025T030000
RRULE:FREQ=YEARLY;BYMONTH=10;BYDAY=-1SU
END:STANDARD
END:VTIMEZONE
BEGIN:VEVENT
UID:25fb6f4e7d9db52ce6ddf99854f35ba7
SUMMARY:Mon très cher père – Allerliebster Papa! - Lesung mit Musik
URL:https://www.concerti.de/termine/mon-tres-cher-pere-allerliebster-papa-833150/
DTSTART;TZID=Europe/Berlin:20260515T193000
DTEND;TZID=Europe/Berlin:20260515T213000
DESCRIPTION:Interpreten: Streichquartett Sonare\, Fritz Karl (Rezitation)\, Aaron Karl (Rezitation) \nProgramm: Werke von Mozart\, L. Mozart & Haydn\, Lesungen aus Briefen zwischen Vater Leopold und Sohn Wolfgang Amadeus \nhttps://www.concerti.de/termine/mon-tres-cher-pere-allerliebster-papa-833150/
LOCATION:Stadttheater\, Gmunden
END:VEVENT
END:VCALENDAR