BEGIN:VCALENDAR
VERSION:2.0
PRODID:concerti//https://www.concerti.de
CALSCALE:GREGORIAN
BEGIN:VTIMEZONE
TZID:Europe/Berlin
X-LIC-LOCATION:Europe/Berlin
BEGIN:DAYLIGHT
TZOFFSETFROM:+0100
TZOFFSETTO:+0200
TZNAME:CEST
DTSTART:19700329T020000
RRULE:FREQ=YEARLY;BYMONTH=3;BYDAY=-1SU
END:DAYLIGHT
BEGIN:STANDARD
TZOFFSETFROM:+0200
TZOFFSETTO:+0100
TZNAME:CET
DTSTART:19701025T030000
RRULE:FREQ=YEARLY;BYMONTH=10;BYDAY=-1SU
END:STANDARD
END:VTIMEZONE
BEGIN:VEVENT
UID:a8dd136f8c7cd792d8e25588ea486ece
SUMMARY:Anna Dennis (Sopran), Víkingur Ólafsson (Klavier), Thomas Adès (Klavier), MDR-Rundfunkchor, Mahler Chamber Orchestra - Lucerne Pulse Festival
URL:https://www.concerti.de/termine/anna-dennis-sopran-vikingur-olafsson-klavier-thomas-ades-klavier-mdr-rundfunkchor-mahler-chamber-orchestra-kkl-kultur-und-kongresszentrum-luzern-822329/
DTSTART;TZID=Europe/Berlin:20260514T183000
DTEND;TZID=Europe/Berlin:20260514T203000
DESCRIPTION:Interpreten: Anna Dennis (Sopran)\, Víkingur Ólafsson (Klavier)\, Thomas Adès (Klavier)\, MDR-Rundfunkchor\, Mahler Chamber Orchestra \nProgramm: Ligeti: Poème Symphonique für 100 Metronome\, Adès: Concerto Conciso & America –​​​​​ A Prophecy\, Kurtág: … quasi una fantasia … op. 27/1\, Pärt: Credo \nhttps://www.concerti.de/termine/anna-dennis-sopran-vikingur-olafsson-klavier-thomas-ades-klavier-mdr-rundfunkchor-mahler-chamber-orchestra-kkl-kultur-und-kongresszentrum-luzern-822329/
LOCATION:KKL Kultur- und Kongresszentrum Luzern\, Europaplatz 1\, 6005 Luzern
END:VEVENT
END:VCALENDAR