BEGIN:VCALENDAR
VERSION:2.0
PRODID:concerti//https://www.concerti.de
CALSCALE:GREGORIAN
BEGIN:VTIMEZONE
TZID:Europe/Berlin
X-LIC-LOCATION:Europe/Berlin
BEGIN:DAYLIGHT
TZOFFSETFROM:+0100
TZOFFSETTO:+0200
TZNAME:CEST
DTSTART:19700329T020000
RRULE:FREQ=YEARLY;BYMONTH=3;BYDAY=-1SU
END:DAYLIGHT
BEGIN:STANDARD
TZOFFSETFROM:+0200
TZOFFSETTO:+0100
TZNAME:CET
DTSTART:19701025T030000
RRULE:FREQ=YEARLY;BYMONTH=10;BYDAY=-1SU
END:STANDARD
END:VTIMEZONE
BEGIN:VEVENT
UID:4a586afe0eb0805e14c53d4c12bb3712
SUMMARY:Gloria in Musica – Vom Klang des Glaubens - Kirch'Klang Festival
URL:https://www.concerti.de/termine/gloria-in-musica-vom-klang-des-glaubens-822197/
DTSTART;TZID=Europe/Berlin:20260705T170000
DTEND;TZID=Europe/Berlin:20260705T190000
DESCRIPTION:Interpreten: Maria Ladurner (Sopran)\, Megan Kahts (Mezzosopran)\, Johannes Bamberger (Tenor)\, Günter Haumer (Bariton)\, Wiener Sängerknaben\, orchester Wiener Akademie\, Martin Haselböck (Leitung) \nProgramm: Haydn: Orgelkonzert C-Dur Hob. XVIII:8 & Salve Regina g-Moll Hob. XXIIIb:2\, Mozart: Messe C-Dur KV 220 „Spatzenmesse“ mit Graduale KV 244\, Offertorium „Alma Die creatoris“ KV 277 & Communio „Ave verum corpus“ KV 618 \nhttps://www.concerti.de/termine/gloria-in-musica-vom-klang-des-glaubens-822197/
LOCATION:Basilika St. Michael\, Mondsee
END:VEVENT
END:VCALENDAR