BEGIN:VCALENDAR
VERSION:2.0
PRODID:concerti//https://www.concerti.de
CALSCALE:GREGORIAN
BEGIN:VTIMEZONE
TZID:Europe/Berlin
X-LIC-LOCATION:Europe/Berlin
BEGIN:DAYLIGHT
TZOFFSETFROM:+0100
TZOFFSETTO:+0200
TZNAME:CEST
DTSTART:19700329T020000
RRULE:FREQ=YEARLY;BYMONTH=3;BYDAY=-1SU
END:DAYLIGHT
BEGIN:STANDARD
TZOFFSETFROM:+0200
TZOFFSETTO:+0100
TZNAME:CET
DTSTART:19701025T030000
RRULE:FREQ=YEARLY;BYMONTH=10;BYDAY=-1SU
END:STANDARD
END:VTIMEZONE
BEGIN:VEVENT
UID:5b37b4dfc0fdbdeb46c2dd18ca45a964
SUMMARY:Händel: Oratorio per la Resurrezione di Nostro Signor Gesù Cristo HWV 47 - Kirch'Klang Festival
URL:https://www.concerti.de/termine/haendel-oratorio-per-la-resurrezione-di-nostro-signor-gesu-cristo-hwv-47-822186/
DTSTART;TZID=Europe/Berlin:20260531T170000
DTEND;TZID=Europe/Berlin:20260531T190000
DESCRIPTION:Interpreten: Ana Maria Labin (Sopran)\, Bruno de Sá (Sopran)\, Terry Wey (Altus)\, João Terleira (Tenor)\, Alexandre Baldo (Bass)\, Orchester Wiener Akademie\, Martin Haselböck (Leitung) \nhttps://www.concerti.de/termine/haendel-oratorio-per-la-resurrezione-di-nostro-signor-gesu-cristo-hwv-47-822186/
LOCATION:Stadtpfarrkirche St. Nikolaus\, Bad Ischl
END:VEVENT
END:VCALENDAR