BEGIN:VCALENDAR
VERSION:2.0
PRODID:concerti//https://www.concerti.de
CALSCALE:GREGORIAN
BEGIN:VTIMEZONE
TZID:Europe/Berlin
X-LIC-LOCATION:Europe/Berlin
BEGIN:DAYLIGHT
TZOFFSETFROM:+0100
TZOFFSETTO:+0200
TZNAME:CEST
DTSTART:19700329T020000
RRULE:FREQ=YEARLY;BYMONTH=3;BYDAY=-1SU
END:DAYLIGHT
BEGIN:STANDARD
TZOFFSETFROM:+0200
TZOFFSETTO:+0100
TZNAME:CET
DTSTART:19701025T030000
RRULE:FREQ=YEARLY;BYMONTH=10;BYDAY=-1SU
END:STANDARD
END:VTIMEZONE
BEGIN:VEVENT
UID:7fdab2343e7b92463943635636f5276c
SUMMARY:Übers Meer - Salzburger Pfingstfestspiele
URL:https://www.concerti.de/termine/uebers-meer-felsenreitschule-salzburg-822179/
DTSTART;TZID=Europe/Berlin:20260525T110000
DTEND;TZID=Europe/Berlin:20260525T130000
DESCRIPTION:Interpreten: Céline Scheen (Sopran)\, Luciana Mancini (Mezzosopran)\, Vincenzo Capezzuto (Alt)\, Valerio Contaldo (Tenor)\, Cyril Auvity (Tenor)\, L’Arpeggiata\, Christina Pluhar (Leitung) \nProgramm: Werke von Cavalli\, Durón\, Schürmann\, Ghizzolo\, Ziani\, Monteverdi\, Pisador\, Rossi u. a. \nhttps://www.concerti.de/termine/uebers-meer-felsenreitschule-salzburg-822179/
LOCATION:Felsenreitschule Salzburg\, Hofstallgasse 1\, 5020 Salzburg
END:VEVENT
END:VCALENDAR