BEGIN:VCALENDAR
VERSION:2.0
PRODID:concerti//https://www.concerti.de
CALSCALE:GREGORIAN
BEGIN:VTIMEZONE
TZID:Europe/Berlin
X-LIC-LOCATION:Europe/Berlin
BEGIN:DAYLIGHT
TZOFFSETFROM:+0100
TZOFFSETTO:+0200
TZNAME:CEST
DTSTART:19700329T020000
RRULE:FREQ=YEARLY;BYMONTH=3;BYDAY=-1SU
END:DAYLIGHT
BEGIN:STANDARD
TZOFFSETFROM:+0200
TZOFFSETTO:+0100
TZNAME:CET
DTSTART:19701025T030000
RRULE:FREQ=YEARLY;BYMONTH=10;BYDAY=-1SU
END:STANDARD
END:VTIMEZONE
BEGIN:VEVENT
UID:efa7947b6371809d533c2efbb724849c
SUMMARY:Voyage de ma vie - Salzburger Pfingstfestspiele
URL:https://www.concerti.de/termine/voyage-de-ma-vie-grosses-festspielhaus-822176/
DTSTART;TZID=Europe/Berlin:20260524T200000
DTEND;TZID=Europe/Berlin:20260524T220000
DESCRIPTION:Interpreten: Cecilia Bartoli (Mezzosopran) & Friends\, Yvan Cassar (Leitung)\, Davide Livermore (Regie) \nhttps://www.concerti.de/termine/voyage-de-ma-vie-grosses-festspielhaus-822176/
LOCATION:Großes Festspielhaus Salzburg\, Hofstallgasse 1\, 5020 Salzburg
END:VEVENT
END:VCALENDAR