BEGIN:VCALENDAR
VERSION:2.0
PRODID:concerti//https://www.concerti.de
CALSCALE:GREGORIAN
BEGIN:VTIMEZONE
TZID:Europe/Berlin
X-LIC-LOCATION:Europe/Berlin
BEGIN:DAYLIGHT
TZOFFSETFROM:+0100
TZOFFSETTO:+0200
TZNAME:CEST
DTSTART:19700329T020000
RRULE:FREQ=YEARLY;BYMONTH=3;BYDAY=-1SU
END:DAYLIGHT
BEGIN:STANDARD
TZOFFSETFROM:+0200
TZOFFSETTO:+0100
TZNAME:CET
DTSTART:19701025T030000
RRULE:FREQ=YEARLY;BYMONTH=10;BYDAY=-1SU
END:STANDARD
END:VTIMEZONE
BEGIN:VEVENT
UID:25e741dae74b42454171f8396daea287
SUMMARY:Monteverdi: Il ritorno d’Ulisse in patria - Salzburger Pfingstfestspiele
URL:https://www.concerti.de/termine/monteverdi-il-ritorno-dulisse-in-patria-haus-fuer-mozart-salzburg-822173/
DTSTART;TZID=Europe/Berlin:20260524T110000
DTEND;TZID=Europe/Berlin:20260524T130000
DESCRIPTION:Interpreten: Vito Priante (Ulisse)\, Sara Mingardo (Penelope)\, Arianna Vendittelli (Minerva)\, Massimo Altieri (Telemaco)\, Alessandro Ravasio (Tempo & Nettuno)\, Raffaele Giordani (Giove & Eurimaco)\, Carlotta Colombo (Amore & Melanto)\, Jiayu Jin (Giunone)\, Compagnia Marionettistica Carlo Colla & Figli\, Les Musiciens du Prince - Monaco\, Gianluca Capuano (Leitung) \nhttps://www.concerti.de/termine/monteverdi-il-ritorno-dulisse-in-patria-haus-fuer-mozart-salzburg-822173/
LOCATION:Haus für Mozart Salzburg\, Hofstallgasse 1\, 5020 Salzburg
END:VEVENT
END:VCALENDAR