BEGIN:VCALENDAR
VERSION:2.0
PRODID:concerti//https://www.concerti.de
CALSCALE:GREGORIAN
BEGIN:VTIMEZONE
TZID:Europe/Berlin
X-LIC-LOCATION:Europe/Berlin
BEGIN:DAYLIGHT
TZOFFSETFROM:+0100
TZOFFSETTO:+0200
TZNAME:CEST
DTSTART:19700329T020000
RRULE:FREQ=YEARLY;BYMONTH=3;BYDAY=-1SU
END:DAYLIGHT
BEGIN:STANDARD
TZOFFSETFROM:+0200
TZOFFSETTO:+0100
TZNAME:CET
DTSTART:19701025T030000
RRULE:FREQ=YEARLY;BYMONTH=10;BYDAY=-1SU
END:STANDARD
END:VTIMEZONE
BEGIN:VEVENT
UID:7fe1fcf57655bd90444427239a1efa92
SUMMARY:Cecilia Bartoli (Mezzosopran), David Fray (Klavier) - Kissinger Sommer
URL:https://www.concerti.de/termine/cecilia-bartoli-mezzosopran-david-fray-klavier-regentenbau-bad-kissingen-821747/
DTSTART;TZID=Europe/Berlin:20260717T193000
DTEND;TZID=Europe/Berlin:20260717T213000
DESCRIPTION:Interpreten: Cecilia Bartoli (Mezzosopran)\, David Fray (Klavier) \nhttps://www.concerti.de/termine/cecilia-bartoli-mezzosopran-david-fray-klavier-regentenbau-bad-kissingen-821747/
LOCATION:Regentenbau Bad Kissingen\, Ludwigstraße 2\, 97688 Bad Kissingen
END:VEVENT
END:VCALENDAR