BEGIN:VCALENDAR
VERSION:2.0
PRODID:concerti//https://www.concerti.de
CALSCALE:GREGORIAN
BEGIN:VTIMEZONE
TZID:Europe/Berlin
X-LIC-LOCATION:Europe/Berlin
BEGIN:DAYLIGHT
TZOFFSETFROM:+0100
TZOFFSETTO:+0200
TZNAME:CEST
DTSTART:19700329T020000
RRULE:FREQ=YEARLY;BYMONTH=3;BYDAY=-1SU
END:DAYLIGHT
BEGIN:STANDARD
TZOFFSETFROM:+0200
TZOFFSETTO:+0100
TZNAME:CET
DTSTART:19701025T030000
RRULE:FREQ=YEARLY;BYMONTH=10;BYDAY=-1SU
END:STANDARD
END:VTIMEZONE
BEGIN:VEVENT
UID:7f8fdfce1a03c9d53af7d879fce3ea0c
SUMMARY:Timothy Ridout (Viola), Frank Dupree (Klavier) - Kissinger Sommer
URL:https://www.concerti.de/termine/timothy-ridout-viola-frank-dupree-klavier-arkadenbau-bad-kissingen-821728/
DTSTART;TZID=Europe/Berlin:20260712T150000
DTEND;TZID=Europe/Berlin:20260712T170000
DESCRIPTION:Interpreten: Timothy Ridout (Viola)\, Frank Dupree (Klavier) \nProgramm: Joachim: Hebräische Melodien\, Brahms: Violoncellosonate Nr. 2 F-Dur\, Enescu: Konzertstück\, Ernest Bloch: Suite \nhttps://www.concerti.de/termine/timothy-ridout-viola-frank-dupree-klavier-arkadenbau-bad-kissingen-821728/
LOCATION:Arkadenbau Bad Kissingen\, Am Kurgarten\, 97688 Bad Kissingen
END:VEVENT
END:VCALENDAR