BEGIN:VCALENDAR
VERSION:2.0
PRODID:concerti//https://www.concerti.de
CALSCALE:GREGORIAN
BEGIN:VTIMEZONE
TZID:Europe/Berlin
X-LIC-LOCATION:Europe/Berlin
BEGIN:DAYLIGHT
TZOFFSETFROM:+0100
TZOFFSETTO:+0200
TZNAME:CEST
DTSTART:19700329T020000
RRULE:FREQ=YEARLY;BYMONTH=3;BYDAY=-1SU
END:DAYLIGHT
BEGIN:STANDARD
TZOFFSETFROM:+0200
TZOFFSETTO:+0100
TZNAME:CET
DTSTART:19701025T030000
RRULE:FREQ=YEARLY;BYMONTH=10;BYDAY=-1SU
END:STANDARD
END:VTIMEZONE
BEGIN:VEVENT
UID:45a93c78972bca12f50b767fe39ce102
SUMMARY:Mao Fujita (Klavier), Deutsches Symphonie-Orchester Berlin, Kent Nagano (Leitung) - Kissinger Sommer
URL:https://www.concerti.de/termine/mao-fujita-klavier-deutsches-symphonie-orchester-berlin-kent-nagano-leitung-regentenbau-bad-kissingen-821713/
DTSTART;TZID=Europe/Berlin:20260710T193000
DTEND;TZID=Europe/Berlin:20260710T213000
DESCRIPTION:Interpreten: Mao Fujita (Klavier)\, Deutsches Symphonie-Orchester Berlin\, Kent Nagano (Leitung) \nProgramm: Purcell: Drei Consorts\, Beethoven: Klavierkonzert Nr. 3 c-Moll\, Dvořák: Sinfonie Nr. 9 e-Moll »Aus der Neuen Welt“ \nhttps://www.concerti.de/termine/mao-fujita-klavier-deutsches-symphonie-orchester-berlin-kent-nagano-leitung-regentenbau-bad-kissingen-821713/
LOCATION:Regentenbau Bad Kissingen\, Ludwigstraße 2\, 97688 Bad Kissingen
END:VEVENT
END:VCALENDAR