BEGIN:VCALENDAR
VERSION:2.0
PRODID:concerti//https://www.concerti.de
CALSCALE:GREGORIAN
BEGIN:VTIMEZONE
TZID:Europe/Berlin
X-LIC-LOCATION:Europe/Berlin
BEGIN:DAYLIGHT
TZOFFSETFROM:+0100
TZOFFSETTO:+0200
TZNAME:CEST
DTSTART:19700329T020000
RRULE:FREQ=YEARLY;BYMONTH=3;BYDAY=-1SU
END:DAYLIGHT
BEGIN:STANDARD
TZOFFSETFROM:+0200
TZOFFSETTO:+0100
TZNAME:CET
DTSTART:19701025T030000
RRULE:FREQ=YEARLY;BYMONTH=10;BYDAY=-1SU
END:STANDARD
END:VTIMEZONE
BEGIN:VEVENT
UID:860c0221908cad5736bb116525e6fb35
SUMMARY:Roman Borisov (Klavier), Quatuor Modigliani - Kissinger Sommer
URL:https://www.concerti.de/termine/roman-borisov-klavier-quatuor-modigliani-arkadenbau-bad-kissingen-821195/
DTSTART;TZID=Europe/Berlin:20260627T150000
DTEND;TZID=Europe/Berlin:20260627T170000
DESCRIPTION:Interpreten: Roman Borisov (Klavier)\, Quatuor Modigliani \nProgramm: Haydn: Streichquartett F-Dur op. 77 Nr. 2\, Smetana: Streichquartett Nr. 1 e-Moll\, Franck: Klavierquintett f-Moll \nhttps://www.concerti.de/termine/roman-borisov-klavier-quatuor-modigliani-arkadenbau-bad-kissingen-821195/
LOCATION:Arkadenbau Bad Kissingen\, Am Kurgarten\, 97688 Bad Kissingen
END:VEVENT
END:VCALENDAR