BEGIN:VCALENDAR
VERSION:2.0
PRODID:concerti//https://www.concerti.de
CALSCALE:GREGORIAN
BEGIN:VTIMEZONE
TZID:Europe/Berlin
X-LIC-LOCATION:Europe/Berlin
BEGIN:DAYLIGHT
TZOFFSETFROM:+0100
TZOFFSETTO:+0200
TZNAME:CEST
DTSTART:19700329T020000
RRULE:FREQ=YEARLY;BYMONTH=3;BYDAY=-1SU
END:DAYLIGHT
BEGIN:STANDARD
TZOFFSETFROM:+0200
TZOFFSETTO:+0100
TZNAME:CET
DTSTART:19701025T030000
RRULE:FREQ=YEARLY;BYMONTH=10;BYDAY=-1SU
END:STANDARD
END:VTIMEZONE
BEGIN:VEVENT
UID:9515a00f05b2801e518f11b0894361d6
SUMMARY:Quintetto Anedda - Grafenegg Festival: Prélude
URL:https://www.concerti.de/termine/quintetto-anedda-820506/
DTSTART;TZID=Europe/Berlin:20260906T163000
DTEND;TZID=Europe/Berlin:20260906T183000
DESCRIPTION:Interpreten: Quintetto Anedda \nProgramm: Werke von Cimarosa\, Rossini\, Verdi u. a. \nhttps://www.concerti.de/termine/quintetto-anedda-820506/
LOCATION:Schloss Grafenegg\, Grafenegg 10\, 3485 Grafenegg
END:VEVENT
END:VCALENDAR