BEGIN:VCALENDAR
VERSION:2.0
PRODID:concerti//https://www.concerti.de
CALSCALE:GREGORIAN
BEGIN:VTIMEZONE
TZID:Europe/Berlin
X-LIC-LOCATION:Europe/Berlin
BEGIN:DAYLIGHT
TZOFFSETFROM:+0100
TZOFFSETTO:+0200
TZNAME:CEST
DTSTART:19700329T020000
RRULE:FREQ=YEARLY;BYMONTH=3;BYDAY=-1SU
END:DAYLIGHT
BEGIN:STANDARD
TZOFFSETFROM:+0200
TZOFFSETTO:+0100
TZNAME:CET
DTSTART:19701025T030000
RRULE:FREQ=YEARLY;BYMONTH=10;BYDAY=-1SU
END:STANDARD
END:VTIMEZONE
BEGIN:VEVENT
UID:d746b661ed77eaa85add52ad1c2a5b45
SUMMARY:Alexandre Kantorow (Klavier) - Grafenegg Festival
URL:https://www.concerti.de/termine/alexandre-kantorow-klavier-820497/
DTSTART;TZID=Europe/Berlin:20260905T153000
DTEND;TZID=Europe/Berlin:20260905T173000
DESCRIPTION:Interpreten: Alexandre Kantorow (Klavier) \nProgramm: Chopin: Prélude cis-Moll op. 45\, Medtner: Klaviersonate f-Moll op. 5\, Beethoven: Klaviersonate Nr. 32 c-Moll op. 111 \nhttps://www.concerti.de/termine/alexandre-kantorow-klavier-820497/
LOCATION:Schloss Grafenegg\, Grafenegg 10\, 3485 Grafenegg
END:VEVENT
END:VCALENDAR