BEGIN:VCALENDAR
VERSION:2.0
PRODID:concerti//https://www.concerti.de
CALSCALE:GREGORIAN
BEGIN:VTIMEZONE
TZID:Europe/Berlin
X-LIC-LOCATION:Europe/Berlin
BEGIN:DAYLIGHT
TZOFFSETFROM:+0100
TZOFFSETTO:+0200
TZNAME:CEST
DTSTART:19700329T020000
RRULE:FREQ=YEARLY;BYMONTH=3;BYDAY=-1SU
END:DAYLIGHT
BEGIN:STANDARD
TZOFFSETFROM:+0200
TZOFFSETTO:+0100
TZNAME:CET
DTSTART:19701025T030000
RRULE:FREQ=YEARLY;BYMONTH=10;BYDAY=-1SU
END:STANDARD
END:VTIMEZONE
BEGIN:VEVENT
UID:bf1221cee865cd0edb744082e5a34d1c
SUMMARY:Wiener Philharmoniker, Tugan Sokhiev (Leitung) - Grafenegg Festival
URL:https://www.concerti.de/termine/wiener-philharmoniker-tugan-sokhiev-leitung-820488/
DTSTART;TZID=Europe/Berlin:20260903T190000
DTEND;TZID=Europe/Berlin:20260903T210000
DESCRIPTION:Interpreten: Wiener Philharmoniker\, Tugan Sokhiev (Leitung) \nProgramm: Mozart: Sinfonie Nr. 25 g-Moll KV 183\, Mahler: Sinfonie Nr. 1 D-Dur \nhttps://www.concerti.de/termine/wiener-philharmoniker-tugan-sokhiev-leitung-820488/
LOCATION:Schloss Grafenegg\, Grafenegg 10\, 3485 Grafenegg
END:VEVENT
END:VCALENDAR