BEGIN:VCALENDAR
VERSION:2.0
PRODID:concerti//https://www.concerti.de
CALSCALE:GREGORIAN
BEGIN:VTIMEZONE
TZID:Europe/Berlin
X-LIC-LOCATION:Europe/Berlin
BEGIN:DAYLIGHT
TZOFFSETFROM:+0100
TZOFFSETTO:+0200
TZNAME:CEST
DTSTART:19700329T020000
RRULE:FREQ=YEARLY;BYMONTH=3;BYDAY=-1SU
END:DAYLIGHT
BEGIN:STANDARD
TZOFFSETFROM:+0200
TZOFFSETTO:+0100
TZNAME:CET
DTSTART:19701025T030000
RRULE:FREQ=YEARLY;BYMONTH=10;BYDAY=-1SU
END:STANDARD
END:VTIMEZONE
BEGIN:VEVENT
UID:b29e71c02bb9fa51ebc538cf599f6fb1
SUMMARY:Martha Argerich (Klavier), Münchner Philharmoniker, Lahav Shani (Leitung) - Grafenegg Festival
URL:https://www.concerti.de/termine/martha-argerich-klavier-muenchner-philharmoniker-lahav-shani-leitung-820485/
DTSTART;TZID=Europe/Berlin:20260902T190000
DTEND;TZID=Europe/Berlin:20260902T210000
DESCRIPTION:Interpreten: Martha Argerich (Klavier)\, Münchner Philharmoniker\, Lahav Shani (Leitung) \nProgramm: Beethoven: Klavierkonzert Nr. 2 B-Dur op. 19\, Brahms: Sinfonie Nr. 4 e-Moll op. 98 \nhttps://www.concerti.de/termine/martha-argerich-klavier-muenchner-philharmoniker-lahav-shani-leitung-820485/
LOCATION:Schloss Grafenegg\, Grafenegg 10\, 3485 Grafenegg
END:VEVENT
END:VCALENDAR