BEGIN:VCALENDAR
VERSION:2.0
PRODID:concerti//https://www.concerti.de
CALSCALE:GREGORIAN
BEGIN:VTIMEZONE
TZID:Europe/Berlin
X-LIC-LOCATION:Europe/Berlin
BEGIN:DAYLIGHT
TZOFFSETFROM:+0100
TZOFFSETTO:+0200
TZNAME:CEST
DTSTART:19700329T020000
RRULE:FREQ=YEARLY;BYMONTH=3;BYDAY=-1SU
END:DAYLIGHT
BEGIN:STANDARD
TZOFFSETFROM:+0200
TZOFFSETTO:+0100
TZNAME:CET
DTSTART:19701025T030000
RRULE:FREQ=YEARLY;BYMONTH=10;BYDAY=-1SU
END:STANDARD
END:VTIMEZONE
BEGIN:VEVENT
UID:419d29c52f91f0361fb66c37025cebc8
SUMMARY:Korngold: Die tote Stadt op. 12 (konzertant) - Grafenegg Festival
URL:https://www.concerti.de/termine/korngold-die-tote-stadt-op-12-konzertant-820482/
DTSTART;TZID=Europe/Berlin:20260830T191500
DTEND;TZID=Europe/Berlin:20260830T211500
DESCRIPTION:Interpreten: Eric Cutler (Paul)\, Camilla Nylund (Marietta/Die Erscheinung Mariens)\, Samuel Hasselhorn (Frank & Fritz)\, Tonkünstler-Orchester Niederösterreich\, Axel Kober (Leitung) \nhttps://www.concerti.de/termine/korngold-die-tote-stadt-op-12-konzertant-820482/
LOCATION:Schloss Grafenegg\, Grafenegg 10\, 3485 Grafenegg
END:VEVENT
END:VCALENDAR