BEGIN:VCALENDAR
VERSION:2.0
PRODID:concerti//https://www.concerti.de
CALSCALE:GREGORIAN
BEGIN:VTIMEZONE
TZID:Europe/Berlin
X-LIC-LOCATION:Europe/Berlin
BEGIN:DAYLIGHT
TZOFFSETFROM:+0100
TZOFFSETTO:+0200
TZNAME:CEST
DTSTART:19700329T020000
RRULE:FREQ=YEARLY;BYMONTH=3;BYDAY=-1SU
END:DAYLIGHT
BEGIN:STANDARD
TZOFFSETFROM:+0200
TZOFFSETTO:+0100
TZNAME:CET
DTSTART:19701025T030000
RRULE:FREQ=YEARLY;BYMONTH=10;BYDAY=-1SU
END:STANDARD
END:VTIMEZONE
BEGIN:VEVENT
UID:353d703a5fbb196bf4e7c45bac94e3d1
SUMMARY:Birgit Fluch-Latini (Flöte), Nikita Gerkusov (Viola), Miriam Ruf (Harfe) - Grafenegg Festival
URL:https://www.concerti.de/termine/birgit-fluch-latini-floete-nikita-gerkusov-viola-miriam-ruf-harfe-820479/
DTSTART;TZID=Europe/Berlin:20260830T163000
DTEND;TZID=Europe/Berlin:20260830T183000
DESCRIPTION:Interpreten: Birgit Fluch-Latini (Flöte)\, Nikita Gerkusov (Viola)\, Miriam Ruf (Harfe) \nProgramm: Werke von Bax\, Smit & Debussy \nhttps://www.concerti.de/termine/birgit-fluch-latini-floete-nikita-gerkusov-viola-miriam-ruf-harfe-820479/
LOCATION:Schloss Grafenegg\, Grafenegg 10\, 3485 Grafenegg
END:VEVENT
END:VCALENDAR