BEGIN:VCALENDAR
VERSION:2.0
PRODID:concerti//https://www.concerti.de
CALSCALE:GREGORIAN
BEGIN:VTIMEZONE
TZID:Europe/Berlin
X-LIC-LOCATION:Europe/Berlin
BEGIN:DAYLIGHT
TZOFFSETFROM:+0100
TZOFFSETTO:+0200
TZNAME:CEST
DTSTART:19700329T020000
RRULE:FREQ=YEARLY;BYMONTH=3;BYDAY=-1SU
END:DAYLIGHT
BEGIN:STANDARD
TZOFFSETFROM:+0200
TZOFFSETTO:+0100
TZNAME:CET
DTSTART:19701025T030000
RRULE:FREQ=YEARLY;BYMONTH=10;BYDAY=-1SU
END:STANDARD
END:VTIMEZONE
BEGIN:VEVENT
UID:7ab0a4fadb8ff9cc821d1960fe58ba90
SUMMARY:Schubert: Klaviertrios B-Dur D 898 &amp; Es-Dur D 929 - Grafenegg Festival
URL:https://www.concerti.de/termine/schubert-klaviertrios-b-dur-d-898-es-dur-d-929-820476/
DTSTART;TZID=Europe/Berlin:20260830T110000
DTEND;TZID=Europe/Berlin:20260830T130000
DESCRIPTION:Interpreten: Nikolaj Szeps-Znaider (Violine)\, Gautier Capuçon (Violoncello)\, Rudolf Buchbinder (Leitung) \nhttps://www.concerti.de/termine/schubert-klaviertrios-b-dur-d-898-es-dur-d-929-820476/
LOCATION:Schloss Grafenegg\, Grafenegg 10\, 3485 Grafenegg
END:VEVENT
END:VCALENDAR