BEGIN:VCALENDAR
VERSION:2.0
PRODID:concerti//https://www.concerti.de
CALSCALE:GREGORIAN
BEGIN:VTIMEZONE
TZID:Europe/Berlin
X-LIC-LOCATION:Europe/Berlin
BEGIN:DAYLIGHT
TZOFFSETFROM:+0100
TZOFFSETTO:+0200
TZNAME:CEST
DTSTART:19700329T020000
RRULE:FREQ=YEARLY;BYMONTH=3;BYDAY=-1SU
END:DAYLIGHT
BEGIN:STANDARD
TZOFFSETFROM:+0200
TZOFFSETTO:+0100
TZNAME:CET
DTSTART:19701025T030000
RRULE:FREQ=YEARLY;BYMONTH=10;BYDAY=-1SU
END:STANDARD
END:VTIMEZONE
BEGIN:VEVENT
UID:44010d287ae0e252b2528a48143a344b
SUMMARY:Capucelli, Gautier Capuçon (Violoncello &amp; Leitung) - Grafenegg Festival
URL:https://www.concerti.de/termine/capucelli-gautier-capucon-violoncello-leitung-820470/
DTSTART;TZID=Europe/Berlin:20260829T153000
DTEND;TZID=Europe/Berlin:20260829T173000
DESCRIPTION:Interpreten: Capucelli\, Gautier Capuçon (Violoncello & Leitung) \nProgramm: Rossini/Déjardin: Ouvertüre zu „Guillaume Tell“\, Dunckel: Wake\, Piazzolla/Walnier: La Muerte del Ángel\, Delibes/Ducros: Blumenduett aus „Lakmé“\, Tschaikowsky/Parent: Blumenwalzer aus „Der Nussknacker“\, Barnes: Life in a Sunshine\, Dubugnon: Heptasyllabes op. 86\, Verdi/Déjardin: Triumphmarsch aus „Aida“\, Grieg/Ducros: In der Halle des Bergkönigs aus „Peer Gynt“\, Blache: Of Wind and Rain\, Ravel/Ducros: Boléro \nhttps://www.concerti.de/termine/capucelli-gautier-capucon-violoncello-leitung-820470/
LOCATION:Schloss Grafenegg\, Grafenegg 10\, 3485 Grafenegg
END:VEVENT
END:VCALENDAR