BEGIN:VCALENDAR
VERSION:2.0
PRODID:concerti//https://www.concerti.de
CALSCALE:GREGORIAN
BEGIN:VTIMEZONE
TZID:Europe/Berlin
X-LIC-LOCATION:Europe/Berlin
BEGIN:DAYLIGHT
TZOFFSETFROM:+0100
TZOFFSETTO:+0200
TZNAME:CEST
DTSTART:19700329T020000
RRULE:FREQ=YEARLY;BYMONTH=3;BYDAY=-1SU
END:DAYLIGHT
BEGIN:STANDARD
TZOFFSETFROM:+0200
TZOFFSETTO:+0100
TZNAME:CET
DTSTART:19701025T030000
RRULE:FREQ=YEARLY;BYMONTH=10;BYDAY=-1SU
END:STANDARD
END:VTIMEZONE
BEGIN:VEVENT
UID:54260195ae2a0974386593373299d4ea
SUMMARY:Wagner: Parsifal (Auszüge) - Grafenegg Festival
URL:https://www.concerti.de/termine/wagner-parsifal-auszuege-820467/
DTSTART;TZID=Europe/Berlin:20260828T191500
DTEND;TZID=Europe/Berlin:20260828T211500
DESCRIPTION:Interpreten: Miina-Liisa Värelä (Kundry)\, Andreas Schager (Parsifal)\, Andreas Schager (Amfortas & Klingsor)\, Georg Zeppenfeld (Gurnemanz)\, Bayreuther Festspielorchester\, Pablo Heras-Casado (Leitung) \nhttps://www.concerti.de/termine/wagner-parsifal-auszuege-820467/
LOCATION:Schloss Grafenegg\, Grafenegg 10\, 3485 Grafenegg
END:VEVENT
END:VCALENDAR