BEGIN:VCALENDAR
VERSION:2.0
PRODID:concerti//https://www.concerti.de
CALSCALE:GREGORIAN
BEGIN:VTIMEZONE
TZID:Europe/Berlin
X-LIC-LOCATION:Europe/Berlin
BEGIN:DAYLIGHT
TZOFFSETFROM:+0100
TZOFFSETTO:+0200
TZNAME:CEST
DTSTART:19700329T020000
RRULE:FREQ=YEARLY;BYMONTH=3;BYDAY=-1SU
END:DAYLIGHT
BEGIN:STANDARD
TZOFFSETFROM:+0200
TZOFFSETTO:+0100
TZNAME:CET
DTSTART:19701025T030000
RRULE:FREQ=YEARLY;BYMONTH=10;BYDAY=-1SU
END:STANDARD
END:VTIMEZONE
BEGIN:VEVENT
UID:6f44716766fb760dd04a12f7412e5ce1
SUMMARY:Rudolf Buchbinder (Klavier), Israel Philharmonic Orchestra, Lahav Shani (Leitung) - Grafenegg Festival
URL:https://www.concerti.de/termine/rudolf-buchbinder-klavier-israel-philharmonic-orchestra-lahav-shani-leitung-820452/
DTSTART;TZID=Europe/Berlin:20260822T193000
DTEND;TZID=Europe/Berlin:20260822T213000
DESCRIPTION:Interpreten: Rudolf Buchbinder (Klavier)\, Israel Philharmonic Orchestra\, Lahav Shani (Leitung) \nProgramm: Brahms: Klavierkonzert Nr. 2 B-Dur op. 83\, Schubert: Sinfonie Nr. 8 C-Dur D 944 „Große C-Dur-Sinfonie“ \nhttps://www.concerti.de/termine/rudolf-buchbinder-klavier-israel-philharmonic-orchestra-lahav-shani-leitung-820452/
LOCATION:Schloss Grafenegg\, Grafenegg 10\, 3485 Grafenegg
END:VEVENT
END:VCALENDAR