BEGIN:VCALENDAR
VERSION:2.0
PRODID:concerti//https://www.concerti.de
CALSCALE:GREGORIAN
BEGIN:VTIMEZONE
TZID:Europe/Berlin
X-LIC-LOCATION:Europe/Berlin
BEGIN:DAYLIGHT
TZOFFSETFROM:+0100
TZOFFSETTO:+0200
TZNAME:CEST
DTSTART:19700329T020000
RRULE:FREQ=YEARLY;BYMONTH=3;BYDAY=-1SU
END:DAYLIGHT
BEGIN:STANDARD
TZOFFSETFROM:+0200
TZOFFSETTO:+0100
TZNAME:CET
DTSTART:19701025T030000
RRULE:FREQ=YEARLY;BYMONTH=10;BYDAY=-1SU
END:STANDARD
END:VTIMEZONE
BEGIN:VEVENT
UID:f078690ffb8951754b1af8ba399b34cf
SUMMARY:Sergei Dogadin (Violine), Daniil Trifonov (Klavier) - Grafenegg Festival
URL:https://www.concerti.de/termine/sergei-dogadin-violine-daniil-trifonov-klavier-820449/
DTSTART;TZID=Europe/Berlin:20260822T153000
DTEND;TZID=Europe/Berlin:20260822T173000
DESCRIPTION:Interpreten: Sergei Dogadin (Violine)\, Daniil Trifonov (Klavier) \nProgramm: Prokofjew: Violinsonate Nr. 1 f-Moll op. 80\, Schostakowitsch/Zyganov/ Auerbch: 24 Präludien op. 34 (ÖEA) \nhttps://www.concerti.de/termine/sergei-dogadin-violine-daniil-trifonov-klavier-820449/
LOCATION:Schloss Grafenegg\, Grafenegg 10\, 3485 Grafenegg
END:VEVENT
END:VCALENDAR