BEGIN:VCALENDAR
VERSION:2.0
PRODID:concerti//https://www.concerti.de
CALSCALE:GREGORIAN
BEGIN:VTIMEZONE
TZID:Europe/Berlin
X-LIC-LOCATION:Europe/Berlin
BEGIN:DAYLIGHT
TZOFFSETFROM:+0100
TZOFFSETTO:+0200
TZNAME:CEST
DTSTART:19700329T020000
RRULE:FREQ=YEARLY;BYMONTH=3;BYDAY=-1SU
END:DAYLIGHT
BEGIN:STANDARD
TZOFFSETFROM:+0200
TZOFFSETTO:+0100
TZNAME:CET
DTSTART:19701025T030000
RRULE:FREQ=YEARLY;BYMONTH=10;BYDAY=-1SU
END:STANDARD
END:VTIMEZONE
BEGIN:VEVENT
UID:e7905fee3dc3cab01add99b58444365b
SUMMARY:Jennifer Johnston (Mezzosopran), Gerald Finley (Bassbariton), Royal Concertgebouw Orchestra, Klaus Mäkelä (Leitung) - Grosse Orchester
URL:https://www.concerti.de/termine/jennifer-johnston-mezzosopran-gerald-finley-bassbariton-royal-concertgebouw-orchestra-klaus-maekelae-leitung-brucknerhaus-linz-820398/
DTSTART;TZID=Europe/Berlin:20261118T190000
DTEND;TZID=Europe/Berlin:20261118T210000
DESCRIPTION:Interpreten: Jennifer Johnston (Mezzosopran)\, Gerald Finley (Bassbariton)\, Royal Concertgebouw Orchestra\, Klaus Mäkelä (Leitung) \nProgramm: Dvořák: Sinfonie Nr. 7 d-Moll op. 70\, Bartók: Herzog Blaubarts Burg (konzertant) \nhttps://www.concerti.de/termine/jennifer-johnston-mezzosopran-gerald-finley-bassbariton-royal-concertgebouw-orchestra-klaus-maekelae-leitung-brucknerhaus-linz-820398/
LOCATION:Brucknerhaus Linz\, Untere Donaulände 7\, 4010 Linz
END:VEVENT
END:VCALENDAR