BEGIN:VCALENDAR
VERSION:2.0
PRODID:concerti//https://www.concerti.de
CALSCALE:GREGORIAN
BEGIN:VTIMEZONE
TZID:Europe/Berlin
X-LIC-LOCATION:Europe/Berlin
BEGIN:DAYLIGHT
TZOFFSETFROM:+0100
TZOFFSETTO:+0200
TZNAME:CEST
DTSTART:19700329T020000
RRULE:FREQ=YEARLY;BYMONTH=3;BYDAY=-1SU
END:DAYLIGHT
BEGIN:STANDARD
TZOFFSETFROM:+0200
TZOFFSETTO:+0100
TZNAME:CET
DTSTART:19701025T030000
RRULE:FREQ=YEARLY;BYMONTH=10;BYDAY=-1SU
END:STANDARD
END:VTIMEZONE
BEGIN:VEVENT
UID:2f142d7d9d669b1cdc6a2ffb45d4f4e8
SUMMARY:Håkan Hardenberger (Trompete), Bruckner Orchester Linz, Anna Rakitina (Leitung) - Internationales Brucknerfest Linz: Grosse Orchester
URL:https://www.concerti.de/termine/stefan-dohr-horn-bruckner-orchester-linz-anna-rakitina-leitung-brucknerhaus-linz-820392/
DTSTART;TZID=Europe/Berlin:20260919T193000
DTEND;TZID=Europe/Berlin:20260919T213000
DESCRIPTION:Interpreten: Håkan Hardenberger (Trompete)\, Bruckner Orchester Linz\, Anna Rakitina (Leitung) \nProgramm: Zimmermann: Trompetenkonzert „Nobody knows de trouble I see“\, Tschaikowsky: Fantasie-Overtüre „Romeo und Julia“ & Sinfonie Nr. 6 h-Moll op. 74 „Pathétique“ \nhttps://www.concerti.de/termine/stefan-dohr-horn-bruckner-orchester-linz-anna-rakitina-leitung-brucknerhaus-linz-820392/
LOCATION:Brucknerhaus Linz\, Untere Donaulände 7\, 4010 Linz
END:VEVENT
END:VCALENDAR