BEGIN:VCALENDAR
VERSION:2.0
PRODID:concerti//https://www.concerti.de
CALSCALE:GREGORIAN
BEGIN:VTIMEZONE
TZID:Europe/Berlin
X-LIC-LOCATION:Europe/Berlin
BEGIN:DAYLIGHT
TZOFFSETFROM:+0100
TZOFFSETTO:+0200
TZNAME:CEST
DTSTART:19700329T020000
RRULE:FREQ=YEARLY;BYMONTH=3;BYDAY=-1SU
END:DAYLIGHT
BEGIN:STANDARD
TZOFFSETFROM:+0200
TZOFFSETTO:+0100
TZNAME:CET
DTSTART:19701025T030000
RRULE:FREQ=YEARLY;BYMONTH=10;BYDAY=-1SU
END:STANDARD
END:VTIMEZONE
BEGIN:VEVENT
UID:dafa83207de377d4fa6358f50d8c8976
SUMMARY:Luiza Borac (Klavier)
URL:https://www.concerti.de/termine/luiza-borac-klavier-818965/
DTSTART;TZID=Europe/Berlin:20261108T170000
DTEND;TZID=Europe/Berlin:20261108T190000
DESCRIPTION:Interpreten: Luiza Borac (Klavier) \nProgramm: Gershwin: Drei Preludes & Rhapsody in Blue\, Elgar: Salut d\'amour op. 12\, Rachmaninow: Klaviersonate Nr. 2 op. 36\, Debussy: Préludes \nhttps://www.concerti.de/termine/luiza-borac-klavier-818965/
LOCATION:Kulturzentrum Hof Jünger\, Bottrop-Kirchhellen
END:VEVENT
END:VCALENDAR