BEGIN:VCALENDAR
VERSION:2.0
PRODID:concerti//https://www.concerti.de
CALSCALE:GREGORIAN
BEGIN:VTIMEZONE
TZID:Europe/Berlin
X-LIC-LOCATION:Europe/Berlin
BEGIN:DAYLIGHT
TZOFFSETFROM:+0100
TZOFFSETTO:+0200
TZNAME:CEST
DTSTART:19700329T020000
RRULE:FREQ=YEARLY;BYMONTH=3;BYDAY=-1SU
END:DAYLIGHT
BEGIN:STANDARD
TZOFFSETFROM:+0200
TZOFFSETTO:+0100
TZNAME:CET
DTSTART:19701025T030000
RRULE:FREQ=YEARLY;BYMONTH=10;BYDAY=-1SU
END:STANDARD
END:VTIMEZONE
BEGIN:VEVENT
UID:18f3ad01c466f25c0f2df7552ff89828
SUMMARY:Andrey Denisenko (Klavier)
URL:https://www.concerti.de/termine/andrey-denisenko-klavier-818975/
DTSTART;TZID=Europe/Berlin:20260919T170000
DTEND;TZID=Europe/Berlin:20260919T190000
DESCRIPTION:Interpreten: Andrey Denisenko (Klavier) \nProgramm: Mozart: Klaviersonaten Nr. 4 B-Dur KV 282\, Nr. 13 B-Dur KV 333 & Nr. 15 F-Dur KV 533/494\, Rondo D-Dur KV 485\, Zwölf Variationen über „Ah\, vous dirai-je\, Maman“ C-Dur KV 265 \nhttps://www.concerti.de/termine/andrey-denisenko-klavier-818975/
LOCATION:Bahnhof Rheydt-Geneicken\, Mönchengladbach
END:VEVENT
END:VCALENDAR