BEGIN:VCALENDAR
VERSION:2.0
PRODID:concerti//https://www.concerti.de
CALSCALE:GREGORIAN
BEGIN:VTIMEZONE
TZID:Europe/Berlin
X-LIC-LOCATION:Europe/Berlin
BEGIN:DAYLIGHT
TZOFFSETFROM:+0100
TZOFFSETTO:+0200
TZNAME:CEST
DTSTART:19700329T020000
RRULE:FREQ=YEARLY;BYMONTH=3;BYDAY=-1SU
END:DAYLIGHT
BEGIN:STANDARD
TZOFFSETFROM:+0200
TZOFFSETTO:+0100
TZNAME:CET
DTSTART:19701025T030000
RRULE:FREQ=YEARLY;BYMONTH=10;BYDAY=-1SU
END:STANDARD
END:VTIMEZONE
BEGIN:VEVENT
UID:5dd587c3e8dfdd726e4bcd9b76258fd3
SUMMARY:Festivalfinale - Styriarte Graz
URL:https://www.concerti.de/termine/festivalfinale-816961/
DTSTART;TZID=Europe/Berlin:20260726T190000
DTEND;TZID=Europe/Berlin:20260726T210000
DESCRIPTION:Interpreten: Elionor Martínez (Sopran)\, Kristin Mulders (Mezzosopran)\, Daniel Folqué (Countertenor)\, Ferran Mitjans (Tenor)\, Mauro Borgioni (Bariton)\, La Capella Reial de Catalunya\, Le Concert des Nations\, Jordi Savall (Leitung) \nProgramm: Delalande: De profundis\, Charpentier: Te Deum\, Pärt: De profundis \nhttps://www.concerti.de/termine/festivalfinale-816961/
LOCATION:Helmut List Halle Graz\, Waagner-Biro-Straße 98a\, 8020 Graz
END:VEVENT
END:VCALENDAR