BEGIN:VCALENDAR
VERSION:2.0
PRODID:concerti//https://www.concerti.de
CALSCALE:GREGORIAN
BEGIN:VTIMEZONE
TZID:Europe/Berlin
X-LIC-LOCATION:Europe/Berlin
BEGIN:DAYLIGHT
TZOFFSETFROM:+0100
TZOFFSETTO:+0200
TZNAME:CEST
DTSTART:19700329T020000
RRULE:FREQ=YEARLY;BYMONTH=3;BYDAY=-1SU
END:DAYLIGHT
BEGIN:STANDARD
TZOFFSETFROM:+0200
TZOFFSETTO:+0100
TZNAME:CET
DTSTART:19701025T030000
RRULE:FREQ=YEARLY;BYMONTH=10;BYDAY=-1SU
END:STANDARD
END:VTIMEZONE
BEGIN:VEVENT
UID:2f0a71820e97e92ec792131da9dc83e0
SUMMARY:Le Nuove Musiche - Styriarte Graz
URL:https://www.concerti.de/termine/le-nuove-musiche-816951/
DTSTART;TZID=Europe/Berlin:20260724T190000
DTEND;TZID=Europe/Berlin:20260724T210000
DESCRIPTION:Interpreten: Hespèrion XXI\, Jordi Savall (Viola da Gamba & Leitung) \nProgramm: Werke von Cavalieri\, Hume\, Frescobaldi\, Kapsberger\, Falconiero u. a. \nhttps://www.concerti.de/termine/le-nuove-musiche-816951/
LOCATION:Helmut List Halle Graz\, Waagner-Biro-Straße 98a\, 8020 Graz
END:VEVENT
END:VCALENDAR