BEGIN:VCALENDAR
VERSION:2.0
PRODID:concerti//https://www.concerti.de
CALSCALE:GREGORIAN
BEGIN:VTIMEZONE
TZID:Europe/Berlin
X-LIC-LOCATION:Europe/Berlin
BEGIN:DAYLIGHT
TZOFFSETFROM:+0100
TZOFFSETTO:+0200
TZNAME:CEST
DTSTART:19700329T020000
RRULE:FREQ=YEARLY;BYMONTH=3;BYDAY=-1SU
END:DAYLIGHT
BEGIN:STANDARD
TZOFFSETFROM:+0200
TZOFFSETTO:+0100
TZNAME:CET
DTSTART:19701025T030000
RRULE:FREQ=YEARLY;BYMONTH=10;BYDAY=-1SU
END:STANDARD
END:VTIMEZONE
BEGIN:VEVENT
UID:8342d2caeeafd9b8310a8be18f1a9132
SUMMARY:Confringo Klavierquartett, Birgit Minichmayr (Rezitation) - Styriarte Graz
URL:https://www.concerti.de/termine/confringo-klavierquartett-birgit-minichmayr-rezitation-816901/
DTSTART;TZID=Europe/Berlin:20260710T190000
DTEND;TZID=Europe/Berlin:20260710T210000
DESCRIPTION:Interpreten: Confringo Klavierquartett\, Birgit Minichmayr (Rezitation) \nProgramm: Schumann: Klavierquartett Es-Dur op. 47\, C. Schumann: Romanze op. 22/3\, Hensel: Juli aus „Das Jahr“\, Mendelssohn: Lied ohne Worte op. 109\, Lesungen aus Werken von Eichendorff & Goethe \nhttps://www.concerti.de/termine/confringo-klavierquartett-birgit-minichmayr-rezitation-816901/
LOCATION:Helmut List Halle Graz\, Waagner-Biro-Straße 98a\, 8020 Graz
END:VEVENT
END:VCALENDAR