BEGIN:VCALENDAR
VERSION:2.0
PRODID:concerti//https://www.concerti.de
CALSCALE:GREGORIAN
BEGIN:VTIMEZONE
TZID:Europe/Berlin
X-LIC-LOCATION:Europe/Berlin
BEGIN:DAYLIGHT
TZOFFSETFROM:+0100
TZOFFSETTO:+0200
TZNAME:CEST
DTSTART:19700329T020000
RRULE:FREQ=YEARLY;BYMONTH=3;BYDAY=-1SU
END:DAYLIGHT
BEGIN:STANDARD
TZOFFSETFROM:+0200
TZOFFSETTO:+0100
TZNAME:CET
DTSTART:19701025T030000
RRULE:FREQ=YEARLY;BYMONTH=10;BYDAY=-1SU
END:STANDARD
END:VTIMEZONE
BEGIN:VEVENT
UID:128825418c2c4544fb8e19fa8666df8e
SUMMARY:Bernd Glemser (Klavier) - Styriarte Graz
URL:https://www.concerti.de/termine/bernd-glemser-klavier-816898/
DTSTART;TZID=Europe/Berlin:20260709T190000
DTEND;TZID=Europe/Berlin:20260709T210000
DESCRIPTION:Interpreten: Bernd Glemser (Klavier) \nProgramm: Beethoven: Klaviersonate cis-Moll op. 27 „Mondscheinsonate“\, Beethoven/Liszt: Sinfonie Nr. 5 c-Moll op. 67 Klavierfassung \nhttps://www.concerti.de/termine/bernd-glemser-klavier-816898/
LOCATION:Helmut List Halle Graz\, Waagner-Biro-Straße 98a\, 8020 Graz
END:VEVENT
END:VCALENDAR