BEGIN:VCALENDAR
VERSION:2.0
PRODID:concerti//https://www.concerti.de
CALSCALE:GREGORIAN
BEGIN:VTIMEZONE
TZID:Europe/Berlin
X-LIC-LOCATION:Europe/Berlin
BEGIN:DAYLIGHT
TZOFFSETFROM:+0100
TZOFFSETTO:+0200
TZNAME:CEST
DTSTART:19700329T020000
RRULE:FREQ=YEARLY;BYMONTH=3;BYDAY=-1SU
END:DAYLIGHT
BEGIN:STANDARD
TZOFFSETFROM:+0200
TZOFFSETTO:+0100
TZNAME:CET
DTSTART:19701025T030000
RRULE:FREQ=YEARLY;BYMONTH=10;BYDAY=-1SU
END:STANDARD
END:VTIMEZONE
BEGIN:VEVENT
UID:d4e467e150e42dc68254bff00d1405aa
SUMMARY:Barocker Glanz
URL:https://www.concerti.de/termine/barocker-glanz-frauenkirche-dresden-813898/
DTSTART;TZID=Europe/Berlin:20260823T160000
DTEND;TZID=Europe/Berlin:20260823T180000
DESCRIPTION:Interpreten: Helmut Fuchs (Trompete)\, Matthias Grünert (Orgel) \nhttps://www.concerti.de/termine/barocker-glanz-frauenkirche-dresden-813898/
LOCATION:Frauenkirche Dresden\, Neumarkt\, 01067 Dresden
END:VEVENT
END:VCALENDAR