BEGIN:VCALENDAR
VERSION:2.0
PRODID:concerti//https://www.concerti.de
CALSCALE:GREGORIAN
BEGIN:VTIMEZONE
TZID:Europe/Berlin
X-LIC-LOCATION:Europe/Berlin
BEGIN:DAYLIGHT
TZOFFSETFROM:+0100
TZOFFSETTO:+0200
TZNAME:CEST
DTSTART:19700329T020000
RRULE:FREQ=YEARLY;BYMONTH=3;BYDAY=-1SU
END:DAYLIGHT
BEGIN:STANDARD
TZOFFSETFROM:+0200
TZOFFSETTO:+0100
TZNAME:CET
DTSTART:19701025T030000
RRULE:FREQ=YEARLY;BYMONTH=10;BYDAY=-1SU
END:STANDARD
END:VTIMEZONE
BEGIN:VEVENT
UID:bc3c711f23db549b61e3fb94011fba2e
SUMMARY:Martin Sturm (Orgel)
URL:https://www.concerti.de/termine/martin-sturm-orgel-frauenkirche-dresden-813895/
DTSTART;TZID=Europe/Berlin:20260822T190000
DTEND;TZID=Europe/Berlin:20260822T210000
DESCRIPTION:Interpreten: Martin Sturm (Orgel) \nhttps://www.concerti.de/termine/martin-sturm-orgel-frauenkirche-dresden-813895/
LOCATION:Frauenkirche Dresden\, Neumarkt\, 01067 Dresden
END:VEVENT
END:VCALENDAR