BEGIN:VCALENDAR
VERSION:2.0
PRODID:concerti//https://www.concerti.de
CALSCALE:GREGORIAN
BEGIN:VTIMEZONE
TZID:Europe/Berlin
X-LIC-LOCATION:Europe/Berlin
BEGIN:DAYLIGHT
TZOFFSETFROM:+0100
TZOFFSETTO:+0200
TZNAME:CEST
DTSTART:19700329T020000
RRULE:FREQ=YEARLY;BYMONTH=3;BYDAY=-1SU
END:DAYLIGHT
BEGIN:STANDARD
TZOFFSETFROM:+0200
TZOFFSETTO:+0100
TZNAME:CET
DTSTART:19701025T030000
RRULE:FREQ=YEARLY;BYMONTH=10;BYDAY=-1SU
END:STANDARD
END:VTIMEZONE
BEGIN:VEVENT
UID:0eee0614ef04adba3c21ff937304b540
SUMMARY:Daniel Müller-Schott (Violoncello), David Fray (Klavier) - Dresdner Musikfestspiele
URL:https://www.concerti.de/termine/daniel-mueller-schott-violoncello-david-fray-klavier-palais-im-grossen-garten-813116/
DTSTART;TZID=Europe/Berlin:20260520T190000
DTEND;TZID=Europe/Berlin:20260520T210000
DESCRIPTION:Interpreten: Daniel Müller-Schott (Violoncello)\, David Fray (Klavier) \nProgramm: Schumann: Drei Romanzen op. 94 & Fantasiestücke op. 73\, Beethoven: Cellosonate Nr. 3 A-Dur op. 69\, Brahms: Cellosonate Nr. 1 e-Moll op. 38 \nhttps://www.concerti.de/termine/daniel-mueller-schott-violoncello-david-fray-klavier-palais-im-grossen-garten-813116/
LOCATION:Palais im Großen Garten\, Hauptallee 5\, 01219 Dresden
END:VEVENT
END:VCALENDAR