BEGIN:VCALENDAR
VERSION:2.0
PRODID:concerti//https://www.concerti.de
CALSCALE:GREGORIAN
BEGIN:VTIMEZONE
TZID:Europe/Berlin
X-LIC-LOCATION:Europe/Berlin
BEGIN:DAYLIGHT
TZOFFSETFROM:+0100
TZOFFSETTO:+0200
TZNAME:CEST
DTSTART:19700329T020000
RRULE:FREQ=YEARLY;BYMONTH=3;BYDAY=-1SU
END:DAYLIGHT
BEGIN:STANDARD
TZOFFSETFROM:+0200
TZOFFSETTO:+0100
TZNAME:CET
DTSTART:19701025T030000
RRULE:FREQ=YEARLY;BYMONTH=10;BYDAY=-1SU
END:STANDARD
END:VTIMEZONE
BEGIN:VEVENT
UID:bde5ff018468266d2e66764bf22176b0
SUMMARY:Mozart: Die Zauberflöte
URL:https://www.concerti.de/termine/mozart-die-zauberfloete-staatsoper-unter-den-linden-134772/
DTSTART;TZID=Europe/Berlin:20260522T190000
DTEND;TZID=Europe/Berlin:20260522T210000
DESCRIPTION:Interpreten: Manuel Winckhler (Sarastro)\, Alina Wunderlin (Königin der Nacht)\, Sonja Herranen (Pamina)\, Magnus Dietrich (Tamino)\, Gyula Orendt (Papageno)\, Serafina Starke (Papagena)\, Tim Fluch (Leitung)\, August Everding (Regie) \nhttps://www.concerti.de/termine/mozart-die-zauberfloete-staatsoper-unter-den-linden-134772/
LOCATION:Staatsoper Unter den Linden\, Unter den Linden 7\, 10117 Berlin
END:VEVENT
END:VCALENDAR