BEGIN:VCALENDAR
VERSION:2.0
PRODID:concerti//https://www.concerti.de
CALSCALE:GREGORIAN
BEGIN:VTIMEZONE
TZID:Europe/Berlin
X-LIC-LOCATION:Europe/Berlin
BEGIN:DAYLIGHT
TZOFFSETFROM:+0100
TZOFFSETTO:+0200
TZNAME:CEST
DTSTART:19700329T020000
RRULE:FREQ=YEARLY;BYMONTH=3;BYDAY=-1SU
END:DAYLIGHT
BEGIN:STANDARD
TZOFFSETFROM:+0200
TZOFFSETTO:+0100
TZNAME:CET
DTSTART:19701025T030000
RRULE:FREQ=YEARLY;BYMONTH=10;BYDAY=-1SU
END:STANDARD
END:VTIMEZONE
BEGIN:VEVENT
UID:8808987f3d7f2e591f0fabf2dac6f9eb
SUMMARY:Magdalena Kožená (Mezzosopran), Martha Argerich (Klavier), Alexandre Kantorow (Klavier) - Verbier Festival
URL:https://www.concerti.de/termine/magdalena-kozena-mezzosopran-martha-argerich-klavier-alexandre-kantorow-klavier-810747/
DTSTART;TZID=Europe/Berlin:20260730T110000
DTEND;TZID=Europe/Berlin:20260730T130000
DESCRIPTION:Interpreten: Magdalena Kožená (Mezzosopran)\, Martha Argerich (Klavier)\, Alexandre Kantorow (Klavier) \nProgramm: Chopin: Prélude cis-Moll op. 45\, Medtner: Klaviersonate Nr. 1 f-Moll op. 5\, Beethoven: Klaviersonate Nr. 32 c-Moll op. 111 \nhttps://www.concerti.de/termine/magdalena-kozena-mezzosopran-martha-argerich-klavier-alexandre-kantorow-klavier-810747/
LOCATION:Église de Verbier Station\, Verbier
END:VEVENT
END:VCALENDAR