BEGIN:VCALENDAR
VERSION:2.0
PRODID:concerti//https://www.concerti.de
CALSCALE:GREGORIAN
BEGIN:VTIMEZONE
TZID:Europe/Berlin
X-LIC-LOCATION:Europe/Berlin
BEGIN:DAYLIGHT
TZOFFSETFROM:+0100
TZOFFSETTO:+0200
TZNAME:CEST
DTSTART:19700329T020000
RRULE:FREQ=YEARLY;BYMONTH=3;BYDAY=-1SU
END:DAYLIGHT
BEGIN:STANDARD
TZOFFSETFROM:+0200
TZOFFSETTO:+0100
TZNAME:CET
DTSTART:19701025T030000
RRULE:FREQ=YEARLY;BYMONTH=10;BYDAY=-1SU
END:STANDARD
END:VTIMEZONE
BEGIN:VEVENT
UID:3420b6261803b6222954a71086129922
SUMMARY:Alexander Melnikov (Klavier), Hofer Symphoniker, Martijn Dendievel (Leitung)
URL:https://www.concerti.de/termine/alexander-melnikov-klavier-hofer-symphoniker-martijn-dendievel-leitung-rosenthal-theater-selb-799536/
DTSTART;TZID=Europe/Berlin:20260710T193000
DTEND;TZID=Europe/Berlin:20260710T213000
DESCRIPTION:Interpreten: Alexander Melnikov (Klavier)\, Hofer Symphoniker\, Martijn Dendievel (Leitung) \nProgramm: Mendelssohn: Ouvertüre zu „Ein Sommernachtstraum“ op. 21\, Klavierkonzert Nr. 2 d-Moll op. 40 & Sinfonie Nr. 5 d-Moll op. 107 „Reformation“ \nhttps://www.concerti.de/termine/alexander-melnikov-klavier-hofer-symphoniker-martijn-dendievel-leitung-rosenthal-theater-selb-799536/
LOCATION:Rosenthal-Theater Selb\, Hohenberger Straße 9\, 95100 Selb
END:VEVENT
END:VCALENDAR